BEGIN:VCALENDAR
VERSION:2.0
PRODID:-//Quiz Events - ECPv6.14.0//NONSGML v1.0//EN
CALSCALE:GREGORIAN
METHOD:PUBLISH
X-ORIGINAL-URL:https://quizevents.nl
X-WR-CALDESC:Evenementen voor Quiz Events
REFRESH-INTERVAL;VALUE=DURATION:PT1H
X-Robots-Tag:noindex
X-PUBLISHED-TTL:PT1H
BEGIN:VTIMEZONE
TZID:Europe/Amsterdam
BEGIN:DAYLIGHT
TZOFFSETFROM:+0100
TZOFFSETTO:+0200
TZNAME:CEST
DTSTART:20240331T010000
END:DAYLIGHT
BEGIN:STANDARD
TZOFFSETFROM:+0200
TZOFFSETTO:+0100
TZNAME:CET
DTSTART:20241027T010000
END:STANDARD
END:VTIMEZONE
BEGIN:VEVENT
DTSTART;TZID=Europe/Amsterdam:20241101T203000
DTEND;TZID=Europe/Amsterdam:20241101T233000
DTSTAMP:20260420T031145
CREATED:20240123T155130Z
LAST-MODIFIED:20241031T190559Z
UID:658-1730493000-1730503800@quizevents.nl
SUMMARY:Pubquiz in De Hooghe Heeren
DESCRIPTION:In 2024 presenteren wij 5 keer een quiz in De Hooghe Heeren. Alle quizzen waren in 2023 uitverkocht\, dus aarzel niet en schrijf je in. \nOp vrijdag 1 november kun je je borst natmaken voor een gezellige en uitdagende pubquiz. Maak een team van maximaal 5 personen en meld je aan voor een prachtige quiz met vragen over sport\, muziek\, film\, flora en fauna\, geschiedenis en nog veel meer. \nEntree is 5\,- per persoon. Inloop 20:00 uur. Start quiz: 20:30 uur. \nDe quiz is met 40 teams inmiddels uitverkocht.
URL:https://quizevents.nl/event/pubquiz-in-de-hooghe-heeren-4/
LOCATION:De Hooghe Heeren\, Herenweg 60\, Hoogwoud\, 1718 AG
CATEGORIES:Pubquiz
ATTACH;FMTTYPE=image/jpeg:https://quizevents.nl/wp-content/uploads/2023/12/IMG_4489.jpeg
END:VEVENT
END:VCALENDAR