BEGIN:VCALENDAR
VERSION:2.0
PRODID:-//Quiz Events - ECPv6.14.0//NONSGML v1.0//EN
CALSCALE:GREGORIAN
METHOD:PUBLISH
X-WR-CALNAME:Quiz Events
X-ORIGINAL-URL:https://quizevents.nl
X-WR-CALDESC:Evenementen voor Quiz Events
REFRESH-INTERVAL;VALUE=DURATION:PT1H
X-Robots-Tag:noindex
X-PUBLISHED-TTL:PT1H
BEGIN:VTIMEZONE
TZID:Europe/Amsterdam
BEGIN:DAYLIGHT
TZOFFSETFROM:+0100
TZOFFSETTO:+0200
TZNAME:CEST
DTSTART:20240331T010000
END:DAYLIGHT
BEGIN:STANDARD
TZOFFSETFROM:+0200
TZOFFSETTO:+0100
TZNAME:CET
DTSTART:20241027T010000
END:STANDARD
END:VTIMEZONE
BEGIN:VEVENT
DTSTART;TZID=Europe/Amsterdam:20241213T203000
DTEND;TZID=Europe/Amsterdam:20241213T233000
DTSTAMP:20260420T013544
CREATED:20240422T183028Z
LAST-MODIFIED:20240423T205023Z
UID:700-1734121800-1734132600@quizevents.nl
SUMMARY:Pop2000 quiz in 't Fortuin
DESCRIPTION:Op vrijdag 13 december spelen we onze nieuwe quiz rondom de lijst der lijsten in ’t Fortuin. Aan de hand van prachtige fragmenten en verrassende vragen testen we je kennis van de lijst der lijsten van 2023. Een afwisselende quiz voor jong en oud\, kenner en leek. Maak een tam van maximaal 5 mensen en meld je aan. Entree is 6\,50 per persoon. Inloop 20:00 uur\, start quiz 20:30 uur.
URL:https://quizevents.nl/event/pop2000-quiz-in-t-fortuin/
LOCATION:’t Fortuin\, Dorpsstraat 190\, Wervershoof\, 1693AK\, Nederland
CATEGORIES:Pop2000
ATTACH;FMTTYPE=image/jpeg:https://quizevents.nl/wp-content/uploads/2023/12/IMG_4045.jpg
END:VEVENT
END:VCALENDAR