BEGIN:VCALENDAR
VERSION:2.0
PRODID:-//Quiz Events - ECPv6.14.0//NONSGML v1.0//EN
CALSCALE:GREGORIAN
METHOD:PUBLISH
X-WR-CALNAME:Quiz Events
X-ORIGINAL-URL:https://quizevents.nl
X-WR-CALDESC:Evenementen voor Quiz Events
REFRESH-INTERVAL;VALUE=DURATION:PT1H
X-Robots-Tag:noindex
X-PUBLISHED-TTL:PT1H
BEGIN:VTIMEZONE
TZID:Europe/Amsterdam
BEGIN:DAYLIGHT
TZOFFSETFROM:+0100
TZOFFSETTO:+0200
TZNAME:CEST
DTSTART:20240331T010000
END:DAYLIGHT
BEGIN:STANDARD
TZOFFSETFROM:+0200
TZOFFSETTO:+0100
TZNAME:CET
DTSTART:20241027T010000
END:STANDARD
END:VTIMEZONE
BEGIN:VEVENT
DTSTART;TZID=Europe/Amsterdam:20241214T203000
DTEND;TZID=Europe/Amsterdam:20241214T233000
DTSTAMP:20260420T013510
CREATED:20240123T155435Z
LAST-MODIFIED:20241214T154905Z
UID:660-1734208200-1734219000@quizevents.nl
SUMMARY:Pop2000 quiz in De Hooghe Heeren
DESCRIPTION:Vorig jaar was de quiz met 40 teams uitverkocht\, en ook dit jaar gaan we voor een volle bak! \nIn deze Pop2000 quiz wordt je kennis over de lijst der lijsten van 2023 getest. Een afwisselende\, gezellige\, herkenbare en uitdagende quiz voor jong en oud! Maak een team van maximaal 5 personen en meld je aan voor deze nu al legendarische avond. \nEntree is 5\,- per persoon. Inloop 20:00 uur. Start quiz: 20:30 uur. \nDe quiz is met 40 teams nagenoeg uitverkocht. Mocht je nog mee willen doen\, stuur ons dan een mailtje of appje of bel ons even\, dan kunnen we zien of er nog plaats is.
URL:https://quizevents.nl/event/pop2000-quiz-in-de-hooghe-heeren/
CATEGORIES:Pop2000
ATTACH;FMTTYPE=image/jpeg:https://quizevents.nl/wp-content/uploads/2023/12/7b960d54-ec93-43dd-b071-4484e8c7ad3f.jpg
END:VEVENT
BEGIN:VEVENT
DTSTART;TZID=Europe/Amsterdam:20241214T203000
DTEND;TZID=Europe/Amsterdam:20241214T233000
DTSTAMP:20260420T013510
CREATED:20240204T132331Z
LAST-MODIFIED:20240204T132331Z
UID:667-1734208200-1734219000@quizevents.nl
SUMMARY:Pop2000 quiz in Cafe De Ridder
DESCRIPTION:In 2024 kun je weer een Pop2000 quiz spelen in Berkhout. In Café De Ridder testen we je kennis over de muziek uit de lijst der lijsten van 2023. Van Queen tot Bankzitters\, van Oôs Joôs tot Armin van Buuren. Maak een team van maximaal 5 personen en meld je vast aan. Meer info volgt.
URL:https://quizevents.nl/event/pop2000-quiz-in-cafe-de-ridder/
LOCATION:Cafe De Ridder\, Kerkebuurt 171\, Berkhout\, 1647 ME\, Nederland
CATEGORIES:Pop2000
ATTACH;FMTTYPE=image/jpeg:https://quizevents.nl/wp-content/uploads/2023/12/IMG_4045.jpg
END:VEVENT
END:VCALENDAR