BEGIN:VCALENDAR
VERSION:2.0
PRODID:-//Quiz Events - ECPv6.14.0//NONSGML v1.0//EN
CALSCALE:GREGORIAN
METHOD:PUBLISH
X-WR-CALNAME:Quiz Events
X-ORIGINAL-URL:https://quizevents.nl
X-WR-CALDESC:Evenementen voor Quiz Events
REFRESH-INTERVAL;VALUE=DURATION:PT1H
X-Robots-Tag:noindex
X-PUBLISHED-TTL:PT1H
BEGIN:VTIMEZONE
TZID:Europe/Amsterdam
BEGIN:DAYLIGHT
TZOFFSETFROM:+0100
TZOFFSETTO:+0200
TZNAME:CEST
DTSTART:20240331T010000
END:DAYLIGHT
BEGIN:STANDARD
TZOFFSETFROM:+0200
TZOFFSETTO:+0100
TZNAME:CET
DTSTART:20241027T010000
END:STANDARD
END:VTIMEZONE
BEGIN:VEVENT
DTSTART;TZID=Europe/Amsterdam:20241218T080000
DTEND;TZID=Europe/Amsterdam:20241218T170000
DTSTAMP:20260420T013546
CREATED:20241218T193330Z
LAST-MODIFIED:20241218T193330Z
UID:844-1734508800-1734541200@quizevents.nl
SUMMARY:Pop2000 quiz in De Hooghe Heeren
DESCRIPTION:Na het succes van 2024 (met 38 teams) zijn we in 2025 ook weer van de partij! Wat weet jouw team van de Top 2000 van 2024? Aan de hand van prachtige fragmenten testen we je kennis over de lijst der lijsten. van Queen tot Prince\, van U.S.A. For Africa tot Europe. \nMaak een team van maximaal 5 personen en meld je aan. Entree is 5\,- pp (te voldoen op de avond zelf). Inloop 20.00 uur\, start quiz 20.30 uur.
URL:https://quizevents.nl/event/pop2000-quiz-in-de-hooghe-heeren-2/
ATTACH;FMTTYPE=image/heic:https://quizevents.nl/wp-content/uploads/2024/12/IMG_2992.heic
END:VEVENT
END:VCALENDAR