BEGIN:VCALENDAR
VERSION:2.0
PRODID:-//Quiz Events - ECPv6.14.0//NONSGML v1.0//EN
CALSCALE:GREGORIAN
METHOD:PUBLISH
X-WR-CALNAME:Quiz Events
X-ORIGINAL-URL:https://quizevents.nl
X-WR-CALDESC:Evenementen voor Quiz Events
REFRESH-INTERVAL;VALUE=DURATION:PT1H
X-Robots-Tag:noindex
X-PUBLISHED-TTL:PT1H
BEGIN:VTIMEZONE
TZID:Europe/Amsterdam
BEGIN:DAYLIGHT
TZOFFSETFROM:+0100
TZOFFSETTO:+0200
TZNAME:CEST
DTSTART:20240331T010000
END:DAYLIGHT
BEGIN:STANDARD
TZOFFSETFROM:+0200
TZOFFSETTO:+0100
TZNAME:CET
DTSTART:20241027T010000
END:STANDARD
END:VTIMEZONE
BEGIN:VEVENT
DTSTART;TZID=Europe/Amsterdam:20241221T200000
DTEND;TZID=Europe/Amsterdam:20241221T230000
DTSTAMP:20260420T013513
CREATED:20240827T192055Z
LAST-MODIFIED:20241122T225453Z
UID:724-1734811200-1734822000@quizevents.nl
SUMMARY:Pop 2000 quiz in Andijk
DESCRIPTION:Terug van weggeweest; de Pop2000 quiz in Andijk. Op zaterdag 21 december komen we je kennis van de Top2000 van 2023 testen aan de hand van prachtige beeldfragmenten. Een uitdagende en herkenbare quiz voor jong en oud\, kenner en leek. \nMaak een team van maximaal 5 personen en meld je aan. Inschrijfkosten (te betalen op de avond zelf) zijn 6\,- per persoon. Inloop 19:30 uur\, start quiz: 20:00 uur.
URL:https://quizevents.nl/event/pop-2000-quiz-in-andijk/
LOCATION:Dorpshuis Centrum\, Sportlaan 1\, Andijk\, 1619XE\, Nederland
CATEGORIES:Pop2000
ATTACH;FMTTYPE=image/jpeg:https://quizevents.nl/wp-content/uploads/2023/12/IMG_4045.jpg
END:VEVENT
BEGIN:VEVENT
DTSTART;TZID=Europe/Amsterdam:20241221T213000
DTEND;TZID=Europe/Amsterdam:20241222T000000
DTSTAMP:20260420T013513
CREATED:20240904T085630Z
LAST-MODIFIED:20240904T085630Z
UID:737-1734816600-1734825600@quizevents.nl
SUMMARY:Pop2000 quiz in Vroeg of Laat
DESCRIPTION:Terug van weg geweest de Pop2000 quiz in Vroeg of Laat. Altijd gezellig\, altijd volle bak\, dat zal vast ook zo zijn in de nieuwe locatie. \nMaak een team van maximaal 5 mensen en meld je aan voor de quiz rondom de lijst der lijsten van 2023. \nOmdat het restaurant geopend is (en dat is meteen een tip: Heerlijk dineren voorafgaand aan de quiz!) spelen we de quiz vanaf 21.30 uur. We denken rond 00.30 uur klaar te zijn! \nMeer informatie over entree etc volgt. Aanmelden voor de quiz kan wel alvast! \nWil je voorafgaand aan de quiz dineren\, reserveer dan zelf bij Vroeg of Laat.
URL:https://quizevents.nl/event/pop2000-quiz-in-vroeg-of-laat/
LOCATION:Cafe / Restaurant Vroeg of Laat\, Wuiver 1\, Spanbroek\, 1715EB\, Nederland
CATEGORIES:Pop2000
ATTACH;FMTTYPE=image/jpeg:https://quizevents.nl/wp-content/uploads/2024/09/24-promoSchaduwTerras.jpg
END:VEVENT
END:VCALENDAR