BEGIN:VCALENDAR
VERSION:2.0
PRODID:-//Quiz Events - ECPv6.14.0//NONSGML v1.0//EN
CALSCALE:GREGORIAN
METHOD:PUBLISH
X-ORIGINAL-URL:https://quizevents.nl
X-WR-CALDESC:Evenementen voor Quiz Events
REFRESH-INTERVAL;VALUE=DURATION:PT1H
X-Robots-Tag:noindex
X-PUBLISHED-TTL:PT1H
BEGIN:VTIMEZONE
TZID:Europe/Amsterdam
BEGIN:DAYLIGHT
TZOFFSETFROM:+0100
TZOFFSETTO:+0200
TZNAME:CEST
DTSTART:20240331T010000
END:DAYLIGHT
BEGIN:STANDARD
TZOFFSETFROM:+0200
TZOFFSETTO:+0100
TZNAME:CET
DTSTART:20241027T010000
END:STANDARD
END:VTIMEZONE
BEGIN:VEVENT
DTSTART;TZID=Europe/Amsterdam:20241228T200000
DTEND;TZID=Europe/Amsterdam:20241228T200000
DTSTAMP:20260420T013655
CREATED:20240101T204604Z
LAST-MODIFIED:20241206T184214Z
UID:528-1735416000-1735416000@quizevents.nl
SUMMARY:Pop2000 quiz in Zuidermeer
DESCRIPTION:Ook dit jaar spelen we weer een mooie Pop2000 quiz in het altijd gezellige Zuidermeer. Maak een team van maximaal 6 personen en ga voor de vele prijzen die er te verdienen zijn. \nInschrijven via ons kan niet meer. De quiz is met 28 teams uitverkocht.
URL:https://quizevents.nl/event/pop2000-quiz-in-zuidermeer/
LOCATION:Dorpshuis Zuidermeer\, Zuidermeerweg 56A\, Zuidermeer\, 1652CV\, Nederland
CATEGORIES:Pop2000
ATTACH;FMTTYPE=image/jpeg:https://quizevents.nl/wp-content/uploads/2023/12/quizevents-pop2000-zuidermee-3.jpg
END:VEVENT
END:VCALENDAR