BEGIN:VCALENDAR
VERSION:2.0
PRODID:-//Quiz Events - ECPv6.14.0//NONSGML v1.0//EN
CALSCALE:GREGORIAN
METHOD:PUBLISH
X-WR-CALNAME:Quiz Events
X-ORIGINAL-URL:https://quizevents.nl
X-WR-CALDESC:Evenementen voor Quiz Events
REFRESH-INTERVAL;VALUE=DURATION:PT1H
X-Robots-Tag:noindex
X-PUBLISHED-TTL:PT1H
BEGIN:VTIMEZONE
TZID:Europe/Amsterdam
BEGIN:DAYLIGHT
TZOFFSETFROM:+0100
TZOFFSETTO:+0200
TZNAME:CEST
DTSTART:20250330T010000
END:DAYLIGHT
BEGIN:STANDARD
TZOFFSETFROM:+0200
TZOFFSETTO:+0100
TZNAME:CET
DTSTART:20251026T010000
END:STANDARD
END:VTIMEZONE
BEGIN:VEVENT
DTSTART;TZID=Europe/Amsterdam:20250315T200000
DTEND;TZID=Europe/Amsterdam:20250315T230000
DTSTAMP:20260419T201318
CREATED:20250118T144540Z
LAST-MODIFIED:20250119T071555Z
UID:906-1742068800-1742079600@quizevents.nl
SUMMARY:Pubquiz in Zuidermeer
DESCRIPTION:Op zaterdag 15 maart hebben wij een primeur voor Zuidermeer. We spelen een heerlijke pubquiz. Naast muziek kun je vragen verwachten over film\, geschiedenis\, natuur\, showbizz\, sport en nog veel\, veel meer. Een ideale quiz voor jong en oud\, kenner en leek.\nMaak een team van maximaal 6 mensen en meld je vast aan.\nDe quiz begint om 20.00 uur. Entree is 10\,- per persoon (inclusief koffie/thee en hapjes). \n \n  \nPS: We spelen in deze periode ook pubquizzen in Diemen\, Wervershoof en Hoogwoud. Deze quiz is mogelijk deels hetzelfde.
URL:https://quizevents.nl/event/pubquiz-in-zuidermeer/
LOCATION:Dorpshuis Zuidermeer\, Zuidermeerweg 56A\, Zuidermeer\, 1652CV\, Nederland
CATEGORIES:Pubquiz
ATTACH;FMTTYPE=image/jpeg:https://quizevents.nl/wp-content/uploads/2023/12/quizevents-pop2000-zuidermeer.jpg
END:VEVENT
END:VCALENDAR