BEGIN:VCALENDAR
VERSION:2.0
PRODID:-//Quiz Events - ECPv6.14.0//NONSGML v1.0//EN
CALSCALE:GREGORIAN
METHOD:PUBLISH
X-ORIGINAL-URL:https://quizevents.nl
X-WR-CALDESC:Evenementen voor Quiz Events
REFRESH-INTERVAL;VALUE=DURATION:PT1H
X-Robots-Tag:noindex
X-PUBLISHED-TTL:PT1H
BEGIN:VTIMEZONE
TZID:Europe/Amsterdam
BEGIN:DAYLIGHT
TZOFFSETFROM:+0100
TZOFFSETTO:+0200
TZNAME:CEST
DTSTART:20240331T010000
END:DAYLIGHT
BEGIN:STANDARD
TZOFFSETFROM:+0200
TZOFFSETTO:+0100
TZNAME:CET
DTSTART:20241027T010000
END:STANDARD
END:VTIMEZONE
BEGIN:VEVENT
DTSTART;TZID=Europe/Amsterdam:20240106T203000
DTEND;TZID=Europe/Amsterdam:20240106T234500
DTSTAMP:20260420T175824
CREATED:20231230T190741Z
LAST-MODIFIED:20240107T074341Z
UID:351-1704573000-1704584700@quizevents.nl
SUMMARY:Pop2000 quiz in 't Fortuin
DESCRIPTION:Op zaterdag 6 januari speelden we de Pop2000 quiz in ‘t Fortuin. De lijst van 2022 stond centraal. We speelden dezelfde quiz als in Schagen en Zuidermeer (in Hoogwoud was de quiz langer en in Diemen korter). \n23 teams streden om de prijzen en het was ongekend spannend. Uiteindelijk trok Merseyside aan het langste eind; zij hielden de nummer drie op 1\,5 punt afstand en de nummer twee op slechts 0\,5 punt afstand. Proficiat! Hieronder een foto van de winnaars en een complete eindstand. \n \n \n 
URL:https://quizevents.nl/event/pop2000-quiz/
LOCATION:’t Fortuin\, Dorpsstraat 190\, Wervershoof\, 1693AK\, Nederland
CATEGORIES:Pop2000
ATTACH;FMTTYPE=image/jpeg:https://quizevents.nl/wp-content/uploads/2023/12/52a6b3a9-71ba-4d3c-94cb-017b585d356f.jpeg
END:VEVENT
BEGIN:VEVENT
DTSTART;TZID=Europe/Amsterdam:20240118T193000
DTEND;TZID=Europe/Amsterdam:20240118T214500
DTSTAMP:20260420T175824
CREATED:20231230T223719Z
LAST-MODIFIED:20240119T103445Z
UID:440-1705606200-1705614300@quizevents.nl
SUMMARY:Pubquiz in House of Bird
DESCRIPTION:Elke derde donderdag van de maand presenteren we een mooie pubquiz in House of Bird aan het Diemerbos. We beginnen om 19.30 uur en zijn rond 21.45 uur klaar. Maak een team van maximaal 6 mensen en meld je aan! Er zijn prachtige prijzen te verdienen voor de beste drie teams. Uiteraard is het mogelijk om vooraf lekker te genieten van een heerlijk biertje en/of een lekkere maaltijd. \nInfo en aanmelden gaat via House of Bird \nOok dit jaar houden we een algemeen klassement bij. In elke quiz zijn er 5 punten voor de winnaars\, 4 punten voor de nummer 2 etc. Na de quiz van november (want in december spelen we een Pop2000 quiz) weten we wie de beste quizzers van 2024 zijn!  Let op: In augustus wordt geen pubquiz gespeeld.
URL:https://quizevents.nl/event/pubquiz-in-house-of-bird-januari/
LOCATION:House of Bird\, Diemerbospad 1a\, Diemen\, 1111 PZ
CATEGORIES:Pubquiz
ATTACH;FMTTYPE=image/jpeg:https://quizevents.nl/wp-content/uploads/2023/12/IMG_7435-2.jpg
END:VEVENT
BEGIN:VEVENT
DTSTART;TZID=Europe/Amsterdam:20240120T203000
DTEND;TZID=Europe/Amsterdam:20240120T234500
DTSTAMP:20260420T175824
CREATED:20231230T195540Z
LAST-MODIFIED:20240106T170910Z
UID:361-1705782600-1705794300@quizevents.nl
SUMMARY:Popquiz in Pardoes - UITVERKOCHT
DESCRIPTION:Traditiegetrouw trappen we in januari het nieuwe jaar af met de Popquiz in Podium Pardoes\, dit jaar helaas niet op de eerste zaterdag van het nieuwe jaar maar op 20 januari. Al ruim 10 jaar stellen wij de leukste vragen over de muziekgeschiedenis\, uiteenlopend van de jaren 50 tot nu! \nZaal open: 20:00 uur\nStart quiz: 20:30 uur \n(De quiz die we spelen is een ietwat aangepaste versie van de quiz die we op 12-10-23 hebben gespeeld in Piet Pann te Schagen) \nKosten: €5\,- per persoon (max. 5 personen per team) \nDe quiz is inmiddels uitverkocht. De ervaring leert dat er soms teams op het laatste moment afvallen. Je kunt je aanmelden voor de wachtlijst. Als iemand onverhoopt afzegt\, mailen we je.
URL:https://quizevents.nl/event/popquizpardoes/
LOCATION:Podium Pardoes\, De Weijver 8-A\, Hoogwoud\, 1718MS\, Nederland
CATEGORIES:Popquiz
ATTACH;FMTTYPE=image/jpeg:https://quizevents.nl/wp-content/uploads/2023/12/quizevents-pardoes.jpg
END:VEVENT
END:VCALENDAR