BEGIN:VCALENDAR
VERSION:2.0
PRODID:-//Quiz Events - ECPv6.14.0//NONSGML v1.0//EN
CALSCALE:GREGORIAN
METHOD:PUBLISH
X-WR-CALNAME:Quiz Events
X-ORIGINAL-URL:https://quizevents.nl
X-WR-CALDESC:Evenementen voor Quiz Events
REFRESH-INTERVAL;VALUE=DURATION:PT1H
X-Robots-Tag:noindex
X-PUBLISHED-TTL:PT1H
BEGIN:VTIMEZONE
TZID:Europe/Amsterdam
BEGIN:DAYLIGHT
TZOFFSETFROM:+0100
TZOFFSETTO:+0200
TZNAME:CEST
DTSTART:20240331T010000
END:DAYLIGHT
BEGIN:STANDARD
TZOFFSETFROM:+0200
TZOFFSETTO:+0100
TZNAME:CET
DTSTART:20241027T010000
END:STANDARD
END:VTIMEZONE
BEGIN:VEVENT
DTSTART;TZID=Europe/Amsterdam:20240321T193000
DTEND;TZID=Europe/Amsterdam:20240321T214500
DTSTAMP:20260420T143637
CREATED:20240101T203036Z
LAST-MODIFIED:20240101T203036Z
UID:510-1711049400-1711057500@quizevents.nl
SUMMARY:Pubquiz in House of Bird
DESCRIPTION:Elke derde donderdag van de maand presenteren we een mooie pubquiz in House of Bird aan het Diemerbos. We beginnen om 19.30 uur en zijn rond 21.45 uur klaar. Maak een team van maximaal 6 mensen en meld je aan! Er zijn prachtige prijzen te verdienen voor de beste drie teams. Uiteraard is het mogelijk om vooraf lekker te genieten van een heerlijk biertje en/of een lekkere maaltijd. \nInfo en aanmelden gaat via House of Bird \nOok dit jaar houden we een algemeen klassement bij. In elke quiz zijn er 5 punten voor de winnaars\, 4 punten voor de nummer 2 etc. Na de quiz van november (want in december spelen we een Pop2000 quiz) weten we wie de beste quizzers van 2024 zijn!  Let op: In augustus wordt geen pubquiz gespeeld.
URL:https://quizevents.nl/event/pubquiz-in-house-of-bird-2/
LOCATION:House of Bird\, Diemerbospad 1a\, Diemen\, 1111 PZ
CATEGORIES:Pubquiz
ATTACH;FMTTYPE=image/jpeg:https://quizevents.nl/wp-content/uploads/2023/12/IMG_7435-2.jpg
END:VEVENT
BEGIN:VEVENT
DTSTART;TZID=Europe/Amsterdam:20240322T203000
DTEND;TZID=Europe/Amsterdam:20240322T233000
DTSTAMP:20260420T143637
CREATED:20240123T154307Z
LAST-MODIFIED:20240322T175941Z
UID:652-1711139400-1711150200@quizevents.nl
SUMMARY:Pubquiz in de Hooghe Heeren
DESCRIPTION:In 2024 presenteren wij 5 keer een quiz in De Hooghe Heeren. Alle quizzen waren in 2023 uitverkocht\, dus aarzel niet en schrijf je in. \nOp vrijdag 22 maart kun je je borst natmaken voor een gezellige en uitdagende pubquiz. Maak een team van maximaal 5 personen en meld je aan voor een prachtige quiz met vragen over sport\, muziek\, film\, flora en fauna\, geschiedenis en nog veel meer. \nEntree is 5\,- per persoon. Inloop 20:00 uur. Start quiz: 20:30 uur. \nDE QUIZ IS UITVERKOCHT. Aanmelden kan alleen nog voor de wachtlijst.
URL:https://quizevents.nl/event/pubquiz-in-de-hooghe-heeren/
LOCATION:De Hooghe Heeren\, Herenweg 60\, Hoogwoud\, 1718 AG
CATEGORIES:Pubquiz
ATTACH;FMTTYPE=image/jpeg:https://quizevents.nl/wp-content/uploads/2023/12/7b960d54-ec93-43dd-b071-4484e8c7ad3f.jpg
END:VEVENT
BEGIN:VEVENT
DTSTART;TZID=Europe/Amsterdam:20240323T200000
DTEND;TZID=Europe/Amsterdam:20240323T200000
DTSTAMP:20260420T143637
CREATED:20240101T204929Z
LAST-MODIFIED:20240319T180506Z
UID:531-1711224000-1711224000@quizevents.nl
SUMMARY:Evergreen Top1000 quiz in Zuidermeer
DESCRIPTION:In deze quiz laten we ons inspireren door de Evergreen Top1000 van Radio 5. De mooiste classics en vergeten pareltjes uit de rijke popgeschiedenis. Een quiz vol Golden Oldies (denk aan The Motions\, The Cats\, Outsiders\, Searchers etc). waar beleving centraal staat. Prachtige fragmenten om je terug te voeren naar de goede oude tijd! Maak een team van maximaal 6 mensen en meld je aan. Entree is €10\,- per persoon.\nDe inloop start om 19.30 uur\, de quiz start om 20.00 uur \nInmiddels is de quiz uitverkocht. Je kunt je nog wel aanmelden voor de wachtlijst.
URL:https://quizevents.nl/event/evergreen-top1000-quiz-in-zuidermeer/
CATEGORIES:Evergreen Top1000 quiz
ATTACH;FMTTYPE=image/png:https://quizevents.nl/wp-content/uploads/2024/01/quizevents-evergreentop1000.png
END:VEVENT
END:VCALENDAR