BEGIN:VCALENDAR
VERSION:2.0
PRODID:-//Quiz Events - ECPv6.14.0//NONSGML v1.0//EN
CALSCALE:GREGORIAN
METHOD:PUBLISH
X-ORIGINAL-URL:https://quizevents.nl
X-WR-CALDESC:Evenementen voor Quiz Events
REFRESH-INTERVAL;VALUE=DURATION:PT1H
X-Robots-Tag:noindex
X-PUBLISHED-TTL:PT1H
BEGIN:VTIMEZONE
TZID:Europe/Amsterdam
BEGIN:DAYLIGHT
TZOFFSETFROM:+0100
TZOFFSETTO:+0200
TZNAME:CEST
DTSTART:20240331T010000
END:DAYLIGHT
BEGIN:STANDARD
TZOFFSETFROM:+0200
TZOFFSETTO:+0100
TZNAME:CET
DTSTART:20241027T010000
END:STANDARD
END:VTIMEZONE
BEGIN:VEVENT
DTSTART;TZID=Europe/Amsterdam:20241004T203000
DTEND;TZID=Europe/Amsterdam:20241004T230000
DTSTAMP:20260420T031221
CREATED:20240531T074925Z
LAST-MODIFIED:20241004T145641Z
UID:708-1728073800-1728082800@quizevents.nl
SUMMARY:80s 90s Popquiz in Pardoes
DESCRIPTION:Op vrijdag 4 oktober gaan we terug naar de jaren tachtig en negentig. De grootste hits\, de mooiste nummers\, de succesvolste artiesten en de one day flies. Cindy Lauper\, Yazoo\, Depeche Mode\, Faith No More\, Nirvana\, The Smiths\, Michael Jackson\, Madonna\, Army of Lovers…. Alles kan voorbij komen in de quiz die geschikt is voor kenner en leek! \nMaak een team van maximaal 5 mensen en meld je aan voor deze unieke avond! Entree is 5\,- per persoon. \nInloop is om 20.00 uur\, de quiz start om 20.30 uur. De quiz is met 24 teams uitverkocht.
URL:https://quizevents.nl/event/80s-90s-popquiz-in-pardoes/
LOCATION:Podium Pardoes\, De Weijver 8-A\, Hoogwoud\, 1718MS\, Nederland
ATTACH;FMTTYPE=image/jpeg:https://quizevents.nl/wp-content/uploads/2024/05/80s-90s-popquiz2.jpg
END:VEVENT
BEGIN:VEVENT
DTSTART;TZID=Europe/Amsterdam:20241010T203000
DTEND;TZID=Europe/Amsterdam:20241010T230000
DTSTAMP:20260420T031221
CREATED:20240531T074754Z
LAST-MODIFIED:20240531T074754Z
UID:705-1728592200-1728601200@quizevents.nl
SUMMARY:80s 90s Popquiz in Piet Pann
DESCRIPTION:Op donderdag 10 oktober gaan we terug naar de jaren tachtig en negentig. De grootste hits\, de mooiste nummers\, de succesvolste artiesten en de one day flies. Cindy Lauper\, Yazoo\, Depeche Mode\, Faith No More\, Nirvana\, The Smiths\, Michael Jackson\, Madonna\, Army of Lovers…. Alles kan voorbij komen in de quiz die geschikt is voor kenner en leek! \nMaak een team van maximaal 5 mensen en meld je aan voor deze unieke avond! \nInloop is om 20.00 uur\, de quiz start om 20.30 uur.
URL:https://quizevents.nl/event/80s-90s-popquiz-in-piet-pann/
LOCATION:Piet Pann\, Markt 7\, Schagen\, 1741 BS
ATTACH;FMTTYPE=image/jpeg:https://quizevents.nl/wp-content/uploads/2024/05/80s-90s-popquiz2.jpg
END:VEVENT
BEGIN:VEVENT
DTSTART;TZID=Europe/Amsterdam:20241017T193000
DTEND;TZID=Europe/Amsterdam:20241017T214500
DTSTAMP:20260420T031221
CREATED:20240101T203736Z
LAST-MODIFIED:20240101T203736Z
UID:522-1729193400-1729201500@quizevents.nl
SUMMARY:Pubquiz in House of Bird
DESCRIPTION:Elke derde donderdag van de maand presenteren we een mooie pubquiz in House of Bird aan het Diemerbos. We beginnen om 19.30 uur en zijn rond 21.45 uur klaar. Maak een team van maximaal 6 mensen en meld je aan! Er zijn prachtige prijzen te verdienen voor de beste drie teams. Uiteraard is het mogelijk om vooraf lekker te genieten van een heerlijk biertje en/of een lekkere maaltijd. \nInfo en aanmelden gaat via House of Bird \nOok dit jaar houden we een algemeen klassement bij. In elke quiz zijn er 5 punten voor de winnaars\, 4 punten voor de nummer 2 etc. Na de quiz van november (want in december spelen we een Pop2000 quiz) weten we wie de beste quizzers van 2024 zijn!  Let op: In augustus wordt geen pubquiz gespeeld.
URL:https://quizevents.nl/event/pubquiz-in-house-of-bird-7/
LOCATION:House of Bird\, Diemerbospad 1a\, Diemen\, 1111 PZ
CATEGORIES:Pubquiz
ATTACH;FMTTYPE=image/jpeg:https://quizevents.nl/wp-content/uploads/2023/12/IMG_7435-2.jpg
END:VEVENT
END:VCALENDAR