BEGIN:VCALENDAR
VERSION:2.0
PRODID:-//Quiz Events - ECPv6.14.0//NONSGML v1.0//EN
CALSCALE:GREGORIAN
METHOD:PUBLISH
X-ORIGINAL-URL:https://quizevents.nl
X-WR-CALDESC:Evenementen voor Quiz Events
REFRESH-INTERVAL;VALUE=DURATION:PT1H
X-Robots-Tag:noindex
X-PUBLISHED-TTL:PT1H
BEGIN:VTIMEZONE
TZID:Europe/Amsterdam
BEGIN:DAYLIGHT
TZOFFSETFROM:+0100
TZOFFSETTO:+0200
TZNAME:CEST
DTSTART:20250330T010000
END:DAYLIGHT
BEGIN:STANDARD
TZOFFSETFROM:+0200
TZOFFSETTO:+0100
TZNAME:CET
DTSTART:20251026T010000
END:STANDARD
END:VTIMEZONE
BEGIN:VEVENT
DTSTART;TZID=Europe/Amsterdam:20250418T203000
DTEND;TZID=Europe/Amsterdam:20250418T233000
DTSTAMP:20260419T165707
CREATED:20241218T162711Z
LAST-MODIFIED:20241218T162711Z
UID:836-1745008200-1745019000@quizevents.nl
SUMMARY:Pubquiz in De Hooghe Heeren
DESCRIPTION:Op vrijdag 18 april presenteren we een heerlijke nieuwe pubquiz in De Hooghe Heeren. Een quiz waarin je kennis over wat je maar kunt bedenken getest wordt. Een ideale quiz voor jong en oud\, kenner en leek. \nMaak een team van maximaal 5 personen en meld je aan. Entree is 5\,- per persoon\, te voldoen op de avond zelf. Inloop: 20.00 uur. Start quiz: 20:30 uur
URL:https://quizevents.nl/event/pubquiz-in-de-hooghe-heeren-5/
LOCATION:De Hooghe Heeren\, Herenweg 60\, Hoogwoud\, 1718 AG
CATEGORIES:Pubquiz
ATTACH;FMTTYPE=image/jpeg:https://quizevents.nl/wp-content/uploads/2023/12/IMG_4489.jpeg
END:VEVENT
END:VCALENDAR